BEGIN:VCALENDAR
VERSION:2.0
PRODID:-//CCCCOOA - ECPv6.15.20//NONSGML v1.0//EN
CALSCALE:GREGORIAN
METHOD:PUBLISH
X-WR-CALNAME:CCCCOOA
X-ORIGINAL-URL:https://www.ccccooa.org
X-WR-CALDESC:Events for CCCCOOA
REFRESH-INTERVAL;VALUE=DURATION:PT1H
X-Robots-Tag:noindex
X-PUBLISHED-TTL:PT1H
BEGIN:VTIMEZONE
TZID:America/New_York
BEGIN:DAYLIGHT
TZOFFSETFROM:-0500
TZOFFSETTO:-0400
TZNAME:EDT
DTSTART:20250309T070000
END:DAYLIGHT
BEGIN:STANDARD
TZOFFSETFROM:-0400
TZOFFSETTO:-0500
TZNAME:EST
DTSTART:20251102T060000
END:STANDARD
BEGIN:DAYLIGHT
TZOFFSETFROM:-0500
TZOFFSETTO:-0400
TZNAME:EDT
DTSTART:20260308T070000
END:DAYLIGHT
BEGIN:STANDARD
TZOFFSETFROM:-0400
TZOFFSETTO:-0500
TZNAME:EST
DTSTART:20261101T060000
END:STANDARD
BEGIN:DAYLIGHT
TZOFFSETFROM:-0500
TZOFFSETTO:-0400
TZNAME:EDT
DTSTART:20270314T070000
END:DAYLIGHT
BEGIN:STANDARD
TZOFFSETFROM:-0400
TZOFFSETTO:-0500
TZNAME:EST
DTSTART:20271107T060000
END:STANDARD
END:VTIMEZONE
BEGIN:VEVENT
DTSTART;TZID=America/New_York:20260506T113000
DTEND;TZID=America/New_York:20260506T130000
DTSTAMP:20260421T145011
CREATED:20260410T205928Z
LAST-MODIFIED:20260410T205928Z
UID:351-1778067000-1778072400@www.ccccooa.org
SUMMARY:May In-Person Caregiver Support Group
DESCRIPTION:Are you the caregiver of an older adult looking for education on various topics and the mutual support of other caregivers?  Please join us for one of our monthly caregiver support groups… virtual and in-person options available to ensure access to all who would like to participate! \nDoors open at 11am for those who would like to come early and socialize with others. \nTo RSVP for the in-person group or receive the Zoom link for the virtual group(s)\, please contact: \nLisa Hughes: (910) 484-0111 ext 242; lhughes@ccccooa.org
URL:https://www.ccccooa.org/event/may-in-person-caregiver-support-group/
LOCATION:Council on Older Adults\, 339 Devers St\, Fayetteville\, 28303\, United States
ORGANIZER;CN="Lisa Hughes":MAILTO:lhughes@ccccooa.org
END:VEVENT
BEGIN:VEVENT
DTSTART;TZID=America/New_York:20260512T170000
DTEND;TZID=America/New_York:20260512T183000
DTSTAMP:20260421T145011
CREATED:20260410T210028Z
LAST-MODIFIED:20260410T210028Z
UID:352-1778605200-1778610600@www.ccccooa.org
SUMMARY:May Evening Virtual Caregiver Support Group
DESCRIPTION:Are you the caregiver of an older adult looking for education on various topics and the mutual support of other caregivers?  Please join us for one of our monthly caregiver support groups… virtual and in-person options available to ensure access to all who would like to participate! \nTo RSVP for the in-person group or receive the Zoom link for the virtual group(s)\, please contact: \nLisa Hughes: (910) 484-0111 ext 242; lhughes@ccccooa.org
URL:https://www.ccccooa.org/event/may-evening-virtual-caregiver-support-group/
ORGANIZER;CN="Lisa Hughes":MAILTO:lhughes@ccccooa.org
END:VEVENT
BEGIN:VEVENT
DTSTART;TZID=America/New_York:20260520T113000
DTEND;TZID=America/New_York:20260520T130000
DTSTAMP:20260421T145011
CREATED:20260410T210116Z
LAST-MODIFIED:20260410T210116Z
UID:353-1779276600-1779282000@www.ccccooa.org
SUMMARY:May Daytime Virtual Caregiver Support Group
DESCRIPTION:Are you the caregiver of an older adult looking for education on various topics and the mutual support of other caregivers?  Please join us for one of our monthly caregiver support groups… virtual and in-person options available to ensure access to all who would like to participate! \nTo RSVP for the in-person group or receive the Zoom link for the virtual group(s)\, please contact: \nLisa Hughes: (910) 484-0111 ext 242; lhughes@ccccooa.org
URL:https://www.ccccooa.org/event/may-daytime-virtual-caregiver-support-group/
ORGANIZER;CN="Lisa Hughes":MAILTO:lhughes@ccccooa.org
END:VEVENT
END:VCALENDAR