BEGIN:VCALENDAR
VERSION:2.0
PRODID:-//CCCCOOA - ECPv6.15.20//NONSGML v1.0//EN
CALSCALE:GREGORIAN
METHOD:PUBLISH
X-WR-CALNAME:CCCCOOA
X-ORIGINAL-URL:https://www.ccccooa.org
X-WR-CALDESC:Events for CCCCOOA
REFRESH-INTERVAL;VALUE=DURATION:PT1H
X-Robots-Tag:noindex
X-PUBLISHED-TTL:PT1H
BEGIN:VTIMEZONE
TZID:America/New_York
BEGIN:DAYLIGHT
TZOFFSETFROM:-0500
TZOFFSETTO:-0400
TZNAME:EDT
DTSTART:20240310T070000
END:DAYLIGHT
BEGIN:STANDARD
TZOFFSETFROM:-0400
TZOFFSETTO:-0500
TZNAME:EST
DTSTART:20241103T060000
END:STANDARD
BEGIN:DAYLIGHT
TZOFFSETFROM:-0500
TZOFFSETTO:-0400
TZNAME:EDT
DTSTART:20250309T070000
END:DAYLIGHT
BEGIN:STANDARD
TZOFFSETFROM:-0400
TZOFFSETTO:-0500
TZNAME:EST
DTSTART:20251102T060000
END:STANDARD
BEGIN:DAYLIGHT
TZOFFSETFROM:-0500
TZOFFSETTO:-0400
TZNAME:EDT
DTSTART:20260308T070000
END:DAYLIGHT
BEGIN:STANDARD
TZOFFSETFROM:-0400
TZOFFSETTO:-0500
TZNAME:EST
DTSTART:20261101T060000
END:STANDARD
END:VTIMEZONE
BEGIN:VEVENT
DTSTART;TZID=America/New_York:20251216T100000
DTEND;TZID=America/New_York:20251216T150000
DTSTAMP:20260421T162537
CREATED:20251031T155400Z
LAST-MODIFIED:20251031T155400Z
UID:265-1765879200-1765897200@www.ccccooa.org
SUMMARY:Legal Aid of NC Legal Documents Workshop
DESCRIPTION:Legal Aid of NC is scheduling appointment to provide free Wills and Power of Attorney Documents to those who qualify. \nTo receive services\, your income must fall below Legal Aid income guidelines.  Priority will be give to seniors and homeowners. \nRegistration through Legal Aid of NC is required. \nTo register: call 919-861-2095 or email probono@legalaidnc.org \n 
URL:https://www.ccccooa.org/event/legal-aid-of-nc-legal-documents-workshop/
LOCATION:Kiwanis Recreation Center\, 352 Devers Street\, Fayetteville\, NC\, 28303\, United States
END:VEVENT
BEGIN:VEVENT
DTSTART;TZID=America/New_York:20251209T170000
DTEND;TZID=America/New_York:20251209T183000
DTSTAMP:20260421T162537
CREATED:20250725T165712Z
LAST-MODIFIED:20250725T165712Z
UID:214-1765299600-1765305000@www.ccccooa.org
SUMMARY:Caregiver Support Groups - Virtual
DESCRIPTION:Are you the caregiver of an older adult looking for education on various topics and the mutual support of other caregivers? Please join us for one of our monthly caregiver support groups… virtual and in-person options available to ensure access to all who would like to join! \nTo RSVP for the in-person group or receive the Zoom invitation for the virtual group\, please contact: \nLisa Hughes\n910-484-0111 ext 242\nlhughes@ccccooa.org \n Kelly Moreton\n910-484-0111 ext 244\nkmoreton@ccccooa.org
URL:https://www.ccccooa.org/event/caregiver-support-groups-virtual-5/
ORGANIZER;CN="Kelly Moreton":MAILTO:kmoreton@ccccooa.org
END:VEVENT
BEGIN:VEVENT
DTSTART;TZID=America/New_York:20251203T110000
DTEND;TZID=America/New_York:20251203T130000
DTSTAMP:20260421T162537
CREATED:20250725T165311Z
LAST-MODIFIED:20250725T165311Z
UID:209-1764759600-1764766800@www.ccccooa.org
SUMMARY:Caregiver Support Groups
DESCRIPTION:Are you the caregiver of an older adult looking for education on various topics and the mutual support of other caregivers? Please join us for one of our monthly caregiver support groups… virtual and in-person options available to ensure access to all who would like to join! \nTo RSVP for the in-person group or receive the Zoom invitation for the virtual group\, please contact: \nLisa Hughes\n910-484-0111 ext 242\nlhughes@ccccooa.org \n Kelly Moreton\n910-484-0111 ext 244\nkmoreton@ccccooa.org
URL:https://www.ccccooa.org/event/caregiver-support-groups-4/
LOCATION:Council on Older Adults\, 339 Devers St\, Fayetteville\, 28303\, United States
ORGANIZER;CN="Kelly Moreton":MAILTO:kmoreton@ccccooa.org
END:VEVENT
BEGIN:VEVENT
DTSTART;TZID=America/New_York:20251105T110000
DTEND;TZID=America/New_York:20251105T130000
DTSTAMP:20260421T162537
CREATED:20250725T165223Z
LAST-MODIFIED:20250725T165223Z
UID:208-1762340400-1762347600@www.ccccooa.org
SUMMARY:Caregiver Support Groups
DESCRIPTION:Are you the caregiver of an older adult looking for education on various topics and the mutual support of other caregivers? Please join us for one of our monthly caregiver support groups… virtual and in-person options available to ensure access to all who would like to join! \nTo RSVP for the in-person group or receive the Zoom invitation for the virtual group\, please contact: \nLisa Hughes\n910-484-0111 ext 242\nlhughes@ccccooa.org \n Kelly Moreton\n910-484-0111 ext 244\nkmoreton@ccccooa.org
URL:https://www.ccccooa.org/event/caregiver-support-groups-3/
LOCATION:Council on Older Adults\, 339 Devers St\, Fayetteville\, 28303\, United States
ORGANIZER;CN="Kelly Moreton":MAILTO:kmoreton@ccccooa.org
END:VEVENT
BEGIN:VEVENT
DTSTART;TZID=America/New_York:20251104T170000
DTEND;TZID=America/New_York:20251104T183000
DTSTAMP:20260421T162537
CREATED:20250725T165635Z
LAST-MODIFIED:20250725T165635Z
UID:213-1762275600-1762281000@www.ccccooa.org
SUMMARY:Caregiver Support Groups - Virtual
DESCRIPTION:Are you the caregiver of an older adult looking for education on various topics and the mutual support of other caregivers? Please join us for one of our monthly caregiver support groups… virtual and in-person options available to ensure access to all who would like to join! \nTo RSVP for the in-person group or receive the Zoom invitation for the virtual group\, please contact: \nLisa Hughes\n910-484-0111 ext 242\nlhughes@ccccooa.org \n Kelly Moreton\n910-484-0111 ext 244\nkmoreton@ccccooa.org
URL:https://www.ccccooa.org/event/caregiver-support-groups-virtual-4/
ORGANIZER;CN="Kelly Moreton":MAILTO:kmoreton@ccccooa.org
END:VEVENT
BEGIN:VEVENT
DTSTART;TZID=America/New_York:20251014T170000
DTEND;TZID=America/New_York:20251014T183000
DTSTAMP:20260421T162537
CREATED:20250725T165543Z
LAST-MODIFIED:20250725T165543Z
UID:212-1760461200-1760466600@www.ccccooa.org
SUMMARY:Caregiver Support Groups - Virtual
DESCRIPTION:Are you the caregiver of an older adult looking for education on various topics and the mutual support of other caregivers? Please join us for one of our monthly caregiver support groups… virtual and in-person options available to ensure access to all who would like to join! \nTo RSVP for the in-person group or receive the Zoom invitation for the virtual group\, please contact: \nLisa Hughes\n910-484-0111 ext 242\nlhughes@ccccooa.org \n Kelly Moreton\n910-484-0111 ext 244\nkmoreton@ccccooa.org
URL:https://www.ccccooa.org/event/caregiver-support-groups-virtual-3/
ORGANIZER;CN="Kelly Moreton":MAILTO:kmoreton@ccccooa.org
END:VEVENT
BEGIN:VEVENT
DTSTART;TZID=America/New_York:20251007T100000
DTEND;TZID=America/New_York:20251007T113000
DTSTAMP:20260421T162537
CREATED:20250826T211319Z
LAST-MODIFIED:20250826T211319Z
UID:250-1759831200-1759836600@www.ccccooa.org
SUMMARY:Welcome to Medicare
DESCRIPTION:This seminar is open to anyone new to Medicare or interested in learning more about Medicare. \nThe seminar will review information on the various parts of Medicare\, how to enroll in Medicare\, how Medicare works with other insurance\, and Medicare savings programs\, and will include a question-and-answer session.
URL:https://www.ccccooa.org/event/welcome-to-medicare/
LOCATION:Council on Older Adults\, 339 Devers St\, Fayetteville\, 28303\, United States
END:VEVENT
BEGIN:VEVENT
DTSTART;TZID=America/New_York:20251001T110000
DTEND;TZID=America/New_York:20251001T130000
DTSTAMP:20260421T162537
CREATED:20250725T165134Z
LAST-MODIFIED:20250725T165234Z
UID:207-1759316400-1759323600@www.ccccooa.org
SUMMARY:Caregiver Support Groups
DESCRIPTION:Are you the caregiver of an older adult looking for education on various topics and the mutual support of other caregivers? Please join us for one of our monthly caregiver support groups… virtual and in-person options available to ensure access to all who would like to join! \nTo RSVP for the in-person group or receive the Zoom invitation for the virtual group\, please contact: \nLisa Hughes\n910-484-0111 ext 242\nlhughes@ccccooa.org \nKelly Moreton\n910-484-0111 ext 244\nkmoreton@ccccooa.org
URL:https://www.ccccooa.org/event/caregiver-support-groups-2/
LOCATION:Council on Older Adults\, 339 Devers St\, Fayetteville\, 28303\, United States
ORGANIZER;CN="Kelly Moreton":MAILTO:kmoreton@ccccooa.org
END:VEVENT
BEGIN:VEVENT
DTSTART;TZID=America/New_York:20250924T100000
DTEND;TZID=America/New_York:20250924T130000
DTSTAMP:20260421T162537
CREATED:20250826T211941Z
LAST-MODIFIED:20250826T211941Z
UID:252-1758708000-1758718800@www.ccccooa.org
SUMMARY:Cumberland County Fall 2025 Scam Jam
DESCRIPTION:This free event is open to the public.  State and local organizations will offer presentations to increase awareness and education around scams targeting older adults and their caregivers.  Experts will present information and answer questions. \nLight refreshments provided.  Door prize opportunities for those in attendance. \nRegistration is required and space is limited.
URL:https://www.ccccooa.org/event/cumberland-county-fall-2025-scam-jam/
LOCATION:Bill Crisp Senior Center\, 7560 Raeford Road\, Fayetteville\, NC\, 28304\, United States
END:VEVENT
BEGIN:VEVENT
DTSTART;TZID=America/New_York:20250909T170000
DTEND;TZID=America/New_York:20250909T183000
DTSTAMP:20260421T162537
CREATED:20250725T165458Z
LAST-MODIFIED:20250725T165458Z
UID:211-1757437200-1757442600@www.ccccooa.org
SUMMARY:Caregiver Support Groups - Virtual
DESCRIPTION:Are you the caregiver of an older adult looking for education on various topics and the mutual support of other caregivers? Please join us for one of our monthly caregiver support groups… virtual and in-person options available to ensure access to all who would like to join! \nTo RSVP for the in-person group or receive the Zoom invitation for the virtual group\, please contact: \nLisa Hughes\n910-484-0111 ext 242\nlhughes@ccccooa.org \n Kelly Moreton\n910-484-0111 ext 244\nkmoreton@ccccooa.org
URL:https://www.ccccooa.org/event/caregiver-support-groups-virtual-2/
ORGANIZER;CN="Kelly Moreton":MAILTO:kmoreton@ccccooa.org
END:VEVENT
BEGIN:VEVENT
DTSTART;TZID=America/New_York:20250903T110000
DTEND;TZID=America/New_York:20250903T130000
DTSTAMP:20260421T162537
CREATED:20250725T164425Z
LAST-MODIFIED:20250725T165110Z
UID:200-1756897200-1756904400@www.ccccooa.org
SUMMARY:Caregiver Support Groups
DESCRIPTION:Are you the caregiver of an older adult looking for education on various topics and the mutual support of other caregivers? Please join us for one of our monthly caregiver support groups… virtual and in-person options available to ensure access to all who would like to join! \nTo RSVP for the in-person group or receive the Zoom invitation for the virtual group\, please contact: \nLisa Hughes\n910-484-0111 ext 242\nlhughes@ccccooa.org \n Kelly Moreton\n910-484-0111 ext 244\nkmoreton@ccccooa.org
URL:https://www.ccccooa.org/event/caregiver-support-groups-fellowship/
LOCATION:Council on Older Adults\, 339 Devers St\, Fayetteville\, 28303\, United States
ORGANIZER;CN="Lisa Hughes":MAILTO:lhughes@ccccooa.org
END:VEVENT
BEGIN:VEVENT
DTSTART;TZID=America/New_York:20250812T170000
DTEND;TZID=America/New_York:20250812T183000
DTSTAMP:20260421T162537
CREATED:20250725T165411Z
LAST-MODIFIED:20250725T165411Z
UID:210-1755018000-1755023400@www.ccccooa.org
SUMMARY:Caregiver Support Groups - Virtual
DESCRIPTION:Are you the caregiver of an older adult looking for education on various topics and the mutual support of other caregivers? Please join us for one of our monthly caregiver support groups… virtual and in-person options available to ensure access to all who would like to join! \nTo RSVP for the in-person group or receive the Zoom invitation for the virtual group\, please contact: \nLisa Hughes\n910-484-0111 ext 242\nlhughes@ccccooa.org \n Kelly Moreton\n910-484-0111 ext 244\nkmoreton@ccccooa.org
URL:https://www.ccccooa.org/event/caregiver-support-groups-virtual/
ORGANIZER;CN="Kelly Moreton":MAILTO:kmoreton@ccccooa.org
END:VEVENT
BEGIN:VEVENT
DTSTART;TZID=America/New_York:20250806T110000
DTEND;TZID=America/New_York:20250806T130000
DTSTAMP:20260421T162537
CREATED:20250725T164800Z
LAST-MODIFIED:20250725T165045Z
UID:205-1754478000-1754485200@www.ccccooa.org
SUMMARY:Caregiver Support Groups
DESCRIPTION:Are you the caregiver of an older adult looking for education on various topics and the mutual support of other caregivers? Please join us for one of our monthly caregiver support groups… virtual and in-person options available to ensure access to all who would like to join! \nTo RSVP for the in-person group or receive the Zoom invitation for the virtual group\, please contact: \nLisa Hughes\n910-484-0111 ext 242\nlhughes@ccccooa.org \nKelly Moreton\n910-484-0111 ext 244\nkmoreton@ccccooa.org
URL:https://www.ccccooa.org/event/caregiver-support-groups/
LOCATION:Council on Older Adults\, 339 Devers St\, Fayetteville\, 28303\, United States
ORGANIZER;CN="Kelly Moreton":MAILTO:kmoreton@ccccooa.org
END:VEVENT
BEGIN:VEVENT
DTSTART;TZID=America/New_York:20250513T110000
DTEND;TZID=America/New_York:20250513T140000
DTSTAMP:20260421T162537
CREATED:20250328T200001Z
LAST-MODIFIED:20250328T200001Z
UID:173-1747134000-1747144800@www.ccccooa.org
SUMMARY:2025 Cumberland County Scam Jam
DESCRIPTION:Join us for the 2025 Cumberland County Scam Jam! \nPresentations will focus on increasing awareness and education regarding scams and fraud encountered in our community.   \n 
URL:https://www.ccccooa.org/event/2025-cumberland-county-scam-jam/
LOCATION:Kiwanis Recreation Center\, 352 Devers Street\, Fayetteville\, NC\, 28303\, United States
END:VEVENT
BEGIN:VEVENT
DTSTART;TZID=America/New_York:20250305T113000
DTEND;TZID=America/New_York:20250305T130000
DTSTAMP:20260421T162537
CREATED:20250113T223621Z
LAST-MODIFIED:20250113T223621Z
UID:144-1741174200-1741179600@www.ccccooa.org
SUMMARY:Caregiver Support Groups in 2025
DESCRIPTION:It’s never too early to start taking care of yourself as a caregiver! \nJoin us during one of our three support groups each month to not only learn more about community caregiver events\, resources\, and caregiving tools\, but to connect with other caregivers and know that you’re not alone in this journey! \nWe look forward to seeing you in the new year!!
URL:https://www.ccccooa.org/event/caregiver-support-groups-in-2025/
END:VEVENT
BEGIN:VEVENT
DTSTART;TZID=America/New_York:20250205T103000
DTEND;TZID=America/New_York:20250205T130000
DTSTAMP:20260421T162537
CREATED:20241125T153115Z
LAST-MODIFIED:20250218T140721Z
UID:36-1738751400-1738760400@www.ccccooa.org
SUMMARY:Caregiver Support Groups in 2025
DESCRIPTION:It’s never too early to start taking care of yourself as a caregiver! \nJoin us during one of our three support groups each month to not only learn more about community caregiver events\, resources\, and caregiving tools\, but to connect with other caregivers and know that you’re not alone in this journey! \nWe look forward to seeing you in the new year!!
URL:https://www.ccccooa.org/event/caregiver-support-groups-in-feb-2025/
END:VEVENT
BEGIN:VEVENT
DTSTART;TZID=America/New_York:20250128T100000
DTEND;TZID=America/New_York:20250128T233000
DTSTAMP:20260421T162537
CREATED:20241125T153200Z
LAST-MODIFIED:20250218T140753Z
UID:33-1738058400-1738107000@www.ccccooa.org
SUMMARY:Welcome to Medicare Class
DESCRIPTION:New to Medicare and not sure what you need and when you need it?? Getting lots of information in the mail about your Medicare options and unsure where to start? Join us for our Welcome to Medicare Class on Tuesday January 28th from 10AM to 11:30AM. \nRegistration is required; please call our office at (910) 484-0111 for more information or to sign up!
URL:https://www.ccccooa.org/event/welcome-to-medicare-class-in-november/
END:VEVENT
END:VCALENDAR